BEGIN:VCALENDAR
VERSION:2.0
PRODID:-//Hunt Irrigation - ECPv6.15.12.2//NONSGML v1.0//EN
CALSCALE:GREGORIAN
METHOD:PUBLISH
X-WR-CALNAME:Hunt Irrigation
X-ORIGINAL-URL:http://www.huntirrigation.com
X-WR-CALDESC:Events for Hunt Irrigation
REFRESH-INTERVAL;VALUE=DURATION:PT1H
X-Robots-Tag:noindex
X-PUBLISHED-TTL:PT1H
BEGIN:VTIMEZONE
TZID:America/Chicago
BEGIN:DAYLIGHT
TZOFFSETFROM:-0600
TZOFFSETTO:-0500
TZNAME:CDT
DTSTART:20150308T080000
END:DAYLIGHT
BEGIN:STANDARD
TZOFFSETFROM:-0500
TZOFFSETTO:-0600
TZNAME:CST
DTSTART:20151101T070000
END:STANDARD
BEGIN:DAYLIGHT
TZOFFSETFROM:-0600
TZOFFSETTO:-0500
TZNAME:CDT
DTSTART:20160313T080000
END:DAYLIGHT
BEGIN:STANDARD
TZOFFSETFROM:-0500
TZOFFSETTO:-0600
TZNAME:CST
DTSTART:20161106T070000
END:STANDARD
BEGIN:DAYLIGHT
TZOFFSETFROM:-0600
TZOFFSETTO:-0500
TZNAME:CDT
DTSTART:20170312T080000
END:DAYLIGHT
BEGIN:STANDARD
TZOFFSETFROM:-0500
TZOFFSETTO:-0600
TZNAME:CST
DTSTART:20171105T070000
END:STANDARD
END:VTIMEZONE
BEGIN:VEVENT
DTSTART;VALUE=DATE:20160801
DTEND;VALUE=DATE:20160802
DTSTAMP:20260423T135121
CREATED:20160913T151538Z
LAST-MODIFIED:20170526T165516Z
UID:1002-1470009600-1470095999@www.huntirrigation.com
SUMMARY:Information for: Insects\, Gardens & Bulbs!
DESCRIPTION:1. Apply insect control to roses\, flowers & garden. \n2. Divide Iris\, Peonies and fall bulbs. \n3. Continue to water on your current watering schedule watering days three times a week for turf and two to three times per week for drip systems depending on the rainfall. \n4. Leave mowing heights the same for both fescue and bluegrass. Mowing only once a week if heat is extreme.
URL:http://www.huntirrigation.com/pro-tips/information-for-insects-gardens-bulbs/
END:VEVENT
BEGIN:VEVENT
DTSTART;TZID=America/Chicago:20160704T080000
DTEND;TZID=America/Chicago:20160705T170000
DTSTAMP:20260423T135121
CREATED:20160913T193202Z
LAST-MODIFIED:20170526T164826Z
UID:1062-1467619200-1467738000@www.huntirrigation.com
SUMMARY:HOLIDAY
DESCRIPTION:OFFICE – CLOSED \nHappy 4th of July! \nBe safe!
URL:http://www.huntirrigation.com/pro-tips/holiday/
END:VEVENT
BEGIN:VEVENT
DTSTART;VALUE=DATE:20160701
DTEND;VALUE=DATE:20160702
DTSTAMP:20260423T135121
CREATED:20160913T151058Z
LAST-MODIFIED:20170526T165437Z
UID:1000-1467331200-1467417599@www.huntirrigation.com
SUMMARY:Inspect for Grubs\, Check your Drip Irrigation!
DESCRIPTION:1. Avoid applying nitrogen to lawn try potash instead\, a 0-0-62 is recommended. \n2. Inspect for grub damage. \n3. Increase drip irrigation to three times per week if rainfall is low. \n4. Continue to water 100% three times a week applying 1 to 1.5 inches for fescues and 1.5 to 2 inches for bluegrass. \n5. Mowing heights for both fescue and bluegrass remain the same.
URL:http://www.huntirrigation.com/pro-tips/inspect-for-grubs-check-your-drip-irrigation/
END:VEVENT
BEGIN:VEVENT
DTSTART;TZID=America/Chicago:20160627T080000
DTEND;TZID=America/Chicago:20160627T170000
DTSTAMP:20260423T135121
CREATED:20160913T145203Z
LAST-MODIFIED:20170526T165232Z
UID:995-1467014400-1467046800@www.huntirrigation.com
SUMMARY:Apply Fungicide
DESCRIPTION:Apply fungicides (Last week of June – 1st week of July) \n* ONLY IF NEEDED!
URL:http://www.huntirrigation.com/pro-tips/apply-fungicide/
END:VEVENT
BEGIN:VEVENT
DTSTART;TZID=America/Chicago:20160601T080000
DTEND;TZID=America/Chicago:20160601T170000
DTSTAMP:20260423T135121
CREATED:20160913T144926Z
LAST-MODIFIED:20170526T165354Z
UID:993-1464768000-1464800400@www.huntirrigation.com
SUMMARY:Mowing: Fescue vs. Bluegrass
DESCRIPTION:1. Pinch back mums & annuals \n2. Fescue: Mow at 3.5 to 4 inches. Fine blade fescue: 3 to 3.5 inches in height. Bluegrass: 3 to 3.5 inches. \n3. Continue turf watering schedule\, increase controller to 100 % & add second day to drip irrigation. Inspect Irrigation system and call if any damage is found. Damaged sprinkler heads and leaky valves cause the greatest amount of water waste at your expense. \n 
URL:http://www.huntirrigation.com/pro-tips/mowing-fescue-vs-bluegrass/
END:VEVENT
END:VCALENDAR